BEGIN:VCALENDAR
VERSION:2.0
PRODID:-//www.udsf.org//NONSGML kigkonsult.se iCalcreator 2.30.10//
CALSCALE:GREGORIAN
METHOD:PUBLISH
UID:445424de-0e05-4edd-a071-2d85d15d0475
X-WR-CALDESC:This online workshop provides parents with education\, strateg
 ies\, and support to help them build a strong foundation for their child w
 ith Down syndrome as they navigate school.
X-WR-RELCALID:89b868c64fd8a3cbf3fc50f90ea94725
X-WR-TIMEZONE:America/Denver
BEGIN:VTIMEZONE
TZID:America/Denver
BEGIN:STANDARD
TZNAME:MST
DTSTART:20201101T020000
TZOFFSETFROM:-0600
TZOFFSETTO:-0700
RDATE:20211107T020000
END:STANDARD
BEGIN:DAYLIGHT
TZNAME:MDT
DTSTART:20210314T020000
TZOFFSETFROM:-0700
TZOFFSETTO:-0600
RDATE:20220313T020000
END:DAYLIGHT
END:VTIMEZONE
BEGIN:VEVENT
UID:a3071dc4-dfd7-4e13-b51e-7b5825184eb8
DTSTAMP:20260423T095721Z
DESCRIPTION:This online workshop provides parents with education\, strategi
 es\, and support to help them build a strong foundation for their child wi
 th Down syndrome as they navigate school.
DTSTART;TZID=America/Denver:20210311T190000
DTEND;TZID=America/Denver:20210311T210000
LOCATION:After you have registered you will get an email containing one Zoo
 m link that will be used for all four sessions.
SUMMARY:Down To Learn March 2021 Workshop
END:VEVENT
END:VCALENDAR
