BEGIN:VCALENDAR
VERSION:2.0
PRODID:-//www.udsf.org//NONSGML kigkonsult.se iCalcreator 2.30.10//
CALSCALE:GREGORIAN
METHOD:PUBLISH
UID:635d34d1-1417-4596-8368-14494b8743ef
X-WR-CALDESC:Join other moms in the Davis county area as we chat and connec
 t about life and having children with Down syndrome.\n(you are responsible
  to pay for your own meal)
X-WR-RELCALID:274fd77ec668cfbc88ec3fb4b5185812
X-WR-TIMEZONE:America/Denver
BEGIN:VTIMEZONE
TZID:America/Denver
BEGIN:STANDARD
TZNAME:MST
DTSTART:20201101T020000
TZOFFSETFROM:-0600
TZOFFSETTO:-0700
RDATE:20211107T020000
RDATE:20221106T020000
END:STANDARD
BEGIN:DAYLIGHT
TZNAME:MDT
DTSTART:20210314T020000
TZOFFSETFROM:-0700
TZOFFSETTO:-0600
RDATE:20220313T020000
RDATE:20230312T020000
END:DAYLIGHT
END:VTIMEZONE
BEGIN:VEVENT
UID:99972cd6-4557-41bf-b65b-8c9d5769c93f
DTSTAMP:20260421T123250Z
DESCRIPTION:Join other moms in the Davis county area as we chat and connect
  about life and having children with Down syndrome.\n(you are responsible 
 to pay for your own meal)
DTSTART;TZID=America/Denver:20210915T130000
DTEND;TZID=America/Denver:20210915T140000
LOCATION:Mo' Bettahs\, 273 W 500 S\, Bountiful\, UT 84010
SUMMARY:Davis County Moms Lunch
END:VEVENT
END:VCALENDAR
