BEGIN:VCALENDAR
VERSION:2.0
PRODID:-//www.udsf.org//NONSGML kigkonsult.se iCalcreator 2.30.10//
CALSCALE:GREGORIAN
METHOD:PUBLISH
UID:ccf934f8-d637-4332-9900-3d07ebb578f4
X-WR-CALDESC:Join Utah County's Moms for a Christmas Brunch & Gift Exchange
 . Begin the holiday season right!  This is a pay your own way event. Pleas
 e RSVP Necia Bess by December 3\, 2021. Bring a $5 gift to exchange with a
 nother mom!
X-WR-RELCALID:4b56a1fdc58e3c274e46a2bf3b127528
X-WR-TIMEZONE:America/Denver
BEGIN:VTIMEZONE
TZID:America/Denver
BEGIN:STANDARD
TZNAME:MST
DTSTART:20211107T020000
TZOFFSETFROM:-0600
TZOFFSETTO:-0700
RDATE:20221106T020000
END:STANDARD
BEGIN:DAYLIGHT
TZNAME:MDT
DTSTART:20210314T020000
TZOFFSETFROM:-0700
TZOFFSETTO:-0600
RDATE:20220313T020000
RDATE:20230312T020000
END:DAYLIGHT
END:VTIMEZONE
BEGIN:VEVENT
UID:3a9796ca-a6ea-4e9b-b646-35bae0e33a0a
DTSTAMP:20260420T101937Z
DESCRIPTION:Join Utah County's Moms for a Christmas Brunch & Gift Exchange.
  Begin the holiday season right!  This is a pay your own way event. Please
  RSVP Necia Bess by December 3\, 2021. Bring a $5 gift to exchange with an
 other mom!
DTSTART;TZID=America/Denver:20211204T100000
DTEND;TZID=America/Denver:20211204T120000
LOCATION:Magelby's Fresh\, 3362 North University Ave\, Provo\, UT 84604 US
SUMMARY:Utah County Moms' Christmas Brunch
END:VEVENT
END:VCALENDAR
