BEGIN:VCALENDAR
VERSION:2.0
PRODID:-//www.udsf.org//NONSGML kigkonsult.se iCalcreator 2.30.10//
CALSCALE:GREGORIAN
METHOD:PUBLISH
UID:aec0824a-8f26-4c97-b2fa-6688850be509
X-WR-CALDESC:Enjoy dinner with new and old friends at the Weber/Morgan Moth
 ers' Dinner at Hug-Hes Cafe\,1220 E 4800 So South Ogden.
X-WR-RELCALID:fbdb4273f6373ced09b33aa41f99beed
X-WR-TIMEZONE:America/Denver
BEGIN:VTIMEZONE
TZID:America/Denver
BEGIN:STANDARD
TZNAME:MST
DTSTART:20211107T020000
TZOFFSETFROM:-0600
TZOFFSETTO:-0700
RDATE:20221106T020000
END:STANDARD
BEGIN:DAYLIGHT
TZNAME:MDT
DTSTART:20210314T020000
TZOFFSETFROM:-0700
TZOFFSETTO:-0600
RDATE:20220313T020000
RDATE:20230312T020000
END:DAYLIGHT
END:VTIMEZONE
BEGIN:VEVENT
UID:ceacd2e7-7b83-486b-a9c1-dbf1b8696d67
DTSTAMP:20260420T082350Z
DESCRIPTION:Enjoy dinner with new and old friends at the Weber/Morgan Mothe
 rs' Dinner at Hug-Hes Cafe\,1220 E 4800 So South Ogden.
DTSTART;TZID=America/Denver:20220127T180000
DTEND;TZID=America/Denver:20220127T200000
LOCATION:1220 E 4800 S\, Ogden\, UT 84403 US
SUMMARY:Weber/Morgan Mothers' Dinner
END:VEVENT
END:VCALENDAR
