BEGIN:VCALENDAR
VERSION:2.0
PRODID:-//www.udsf.org//NONSGML kigkonsult.se iCalcreator 2.30.10//
CALSCALE:GREGORIAN
METHOD:PUBLISH
UID:2fce7847-225b-4756-92b9-c79a1447f63a
X-WR-CALDESC:Join us for our Weber Morgan Mom's Dinner this month at Napoli
 's! We would love to see you there for a good night with food and friends.
X-WR-RELCALID:59f0583dd7abb2f5f30e9c446a7f11ab
X-WR-TIMEZONE:America/Denver
BEGIN:VTIMEZONE
TZID:America/Denver
BEGIN:STANDARD
TZNAME:MST
DTSTART:20211107T020000
TZOFFSETFROM:-0600
TZOFFSETTO:-0700
RDATE:20221106T020000
RDATE:20231105T020000
END:STANDARD
BEGIN:DAYLIGHT
TZNAME:MDT
DTSTART:20220313T020000
TZOFFSETFROM:-0700
TZOFFSETTO:-0600
RDATE:20230312T020000
END:DAYLIGHT
END:VTIMEZONE
BEGIN:VEVENT
UID:0338ec8e-eff9-4ec7-8816-62b32da65dc4
DTSTAMP:20260422T044739Z
DESCRIPTION:Join us for our Weber Morgan Mom's Dinner this month at Napoli'
 s! We would love to see you there for a good night with food and friends.
DTSTART;TZID=America/Denver:20220822T180000
DTEND;TZID=America/Denver:20220822T190000
LOCATION:4015 Riverdale Road\, South Ogden\, UT 84405 US
SUMMARY:Weber Morgan Mom's Dinner
END:VEVENT
END:VCALENDAR
