BEGIN:VCALENDAR
VERSION:2.0
PRODID:-//www.udsf.org//NONSGML kigkonsult.se iCalcreator 2.30.10//
CALSCALE:GREGORIAN
METHOD:PUBLISH
UID:12ef2155-41ec-4b73-8960-1488ce49e0c0
X-WR-CALDESC:
X-WR-RELCALID:ee80c821b09b20c8300dc0774ad88fde
X-WR-TIMEZONE:America/Denver
BEGIN:VTIMEZONE
TZID:America/Denver
BEGIN:STANDARD
TZNAME:MST
DTSTART:20211107T020000
TZOFFSETFROM:-0600
TZOFFSETTO:-0700
RDATE:20221106T020000
RDATE:20231105T020000
END:STANDARD
BEGIN:DAYLIGHT
TZNAME:MDT
DTSTART:20220313T020000
TZOFFSETFROM:-0700
TZOFFSETTO:-0600
RDATE:20230312T020000
RDATE:20240310T020000
END:DAYLIGHT
END:VTIMEZONE
BEGIN:VEVENT
UID:14a4163f-211b-47ad-878c-f35b3a93bf8f
DTSTAMP:20260422T031343Z
DESCRIPTION:
DTSTART;TZID=America/Denver:20220922T180000
DTEND;TZID=America/Denver:20220922T190000
LOCATION:4015 Riverdale Road\, South Ogden\, UT 84405 US
SUMMARY:Weber Morgan Mom's Dinner
END:VEVENT
END:VCALENDAR
