BEGIN:VCALENDAR
VERSION:2.0
PRODID:-//www.udsf.org//NONSGML kigkonsult.se iCalcreator 2.30.10//
CALSCALE:GREGORIAN
METHOD:PUBLISH
UID:faf0ec29-8c90-45f4-8fec-33831776a119
X-WR-CALDESC:Join us for our 4th Quarter New Parent Breakfast! Meet new par
 ents\, eat delicious food\, and hear from wonderful speakers. Register for
  FREE today!
X-WR-RELCALID:4f74f410df10899cf6b76c0e90cac576
X-WR-TIMEZONE:America/Denver
BEGIN:VTIMEZONE
TZID:America/Denver
BEGIN:STANDARD
TZNAME:MST
DTSTART:20211107T020000
TZOFFSETFROM:-0600
TZOFFSETTO:-0700
RDATE:20221106T020000
RDATE:20231105T020000
END:STANDARD
BEGIN:DAYLIGHT
TZNAME:MDT
DTSTART:20220313T020000
TZOFFSETFROM:-0700
TZOFFSETTO:-0600
RDATE:20230312T020000
RDATE:20240310T020000
END:DAYLIGHT
END:VTIMEZONE
BEGIN:VEVENT
UID:1ed1eb12-0c77-4c30-a864-0a701adc78cf
DTSTAMP:20260422T001125Z
DESCRIPTION:Join us for our 4th Quarter New Parent Breakfast! Meet new pare
 nts\, eat delicious food\, and hear from wonderful speakers. Register for 
 FREE today!
DTSTART;TZID=America/Denver:20221105T100000
DTEND;TZID=America/Denver:20221105T120000
LOCATION:Elizabeth Academy
SUMMARY:4th Quarter New Parent Breakfast
END:VEVENT
END:VCALENDAR
