BEGIN:VCALENDAR
VERSION:2.0
PRODID:-//www.udsf.org//NONSGML kigkonsult.se iCalcreator 2.30.10//
CALSCALE:GREGORIAN
METHOD:PUBLISH
UID:f3bb301a-cd91-4609-bd4a-b9bf60266eb8
X-WR-CALDESC:Limit of three guests per individual with Ds. Hope to see you 
 there!
X-WR-RELCALID:b3281603b830d4750d1589b613ab0b1e
X-WR-TIMEZONE:America/Denver
BEGIN:VTIMEZONE
TZID:America/Denver
BEGIN:STANDARD
TZNAME:MST
DTSTART:20221106T020000
TZOFFSETFROM:-0600
TZOFFSETTO:-0700
RDATE:20231105T020000
END:STANDARD
BEGIN:DAYLIGHT
TZNAME:MDT
DTSTART:20220313T020000
TZOFFSETFROM:-0700
TZOFFSETTO:-0600
RDATE:20230312T020000
RDATE:20240310T020000
END:DAYLIGHT
END:VTIMEZONE
BEGIN:VEVENT
UID:f11e3f37-5031-4cf5-be5c-26f7f4b054c7
DTSTAMP:20260422T001547Z
DESCRIPTION:Limit of three guests per individual with Ds. Hope to see you t
 here!
DTSTART;TZID=America/Denver:20221118T180000
DTEND;TZID=America/Denver:20221118T203000
LOCATION:11473 South Chapel View Dr\, South Jordan\, UT 84095 US
SUMMARY:Adults w/ Ds Harvest Hoedown
END:VEVENT
END:VCALENDAR
