BEGIN:VCALENDAR
VERSION:2.0
PRODID:-//www.udsf.org//NONSGML kigkonsult.se iCalcreator 2.30.10//
CALSCALE:GREGORIAN
METHOD:PUBLISH
UID:f1b7cd90-857a-4f82-a302-3cfcea1756d6
X-WR-CALDESC:UDSF is happy to host our annual Mom's Holiday T Party on Tues
 day\, December 6th at the Cox Residence. Join us for a night of eats\, tre
 ats\, drinks\, and peeps! This year's theme is Snow Whiteout. Wear white a
 nd a tiara. For our service project\, please bring a gender neutral\, stuf
 fed toy to donate to our New Parent Baskets. We ho ho hope you can come! T
 his event is free but registration is required.
X-WR-RELCALID:ba17ba90282cbc27bf790720da8daab3
X-WR-TIMEZONE:America/Denver
BEGIN:VTIMEZONE
TZID:America/Denver
BEGIN:STANDARD
TZNAME:MST
DTSTART:20221106T020000
TZOFFSETFROM:-0600
TZOFFSETTO:-0700
RDATE:20231105T020000
END:STANDARD
BEGIN:DAYLIGHT
TZNAME:MDT
DTSTART:20220313T020000
TZOFFSETFROM:-0700
TZOFFSETTO:-0600
RDATE:20230312T020000
RDATE:20240310T020000
END:DAYLIGHT
END:VTIMEZONE
BEGIN:VEVENT
UID:1bcef3d4-6996-470f-b5de-8cefc912fb06
DTSTAMP:20260421T223919Z
DESCRIPTION:UDSF is happy to host our annual Mom's Holiday T Party on Tuesd
 ay\, December 6th at the Cox Residence. Join us for a night of eats\, trea
 ts\, drinks\, and peeps! This year's theme is Snow Whiteout. Wear white an
 d a tiara. For our service project\, please bring a gender neutral\, stuff
 ed toy to donate to our New Parent Baskets. We ho ho hope you can come! Th
 is event is free but registration is required.
DTSTART;TZID=America/Denver:20221206T183000
DTEND;TZID=America/Denver:20221206T210000
LOCATION:964 Chesterbrook Cove\, Murray\, UT 84123 US
SUMMARY:Moms' Holiday T Party
END:VEVENT
END:VCALENDAR
