BEGIN:VCALENDAR
VERSION:2.0
PRODID:-//www.udsf.org//NONSGML kigkonsult.se iCalcreator 2.30.10//
CALSCALE:GREGORIAN
METHOD:PUBLISH
UID:545843de-b842-4c73-983b-4d2576848409
X-WR-CALDESC:Join us for our Weber Morgan Moms Dinner this December! Hope t
 o see you there.
X-WR-RELCALID:e3864c7586f99fc1646fbfdc30634bfe
X-WR-TIMEZONE:America/Denver
BEGIN:VTIMEZONE
TZID:America/Denver
BEGIN:STANDARD
TZNAME:MST
DTSTART:20221106T020000
TZOFFSETFROM:-0600
TZOFFSETTO:-0700
RDATE:20231105T020000
END:STANDARD
BEGIN:DAYLIGHT
TZNAME:MDT
DTSTART:20220313T020000
TZOFFSETFROM:-0700
TZOFFSETTO:-0600
RDATE:20230312T020000
RDATE:20240310T020000
END:DAYLIGHT
END:VTIMEZONE
BEGIN:VEVENT
UID:73862db4-b2bd-404e-bb88-3b20b5b9b209
DTSTAMP:20260420T093310Z
DESCRIPTION:Join us for our Weber Morgan Moms Dinner this December! Hope to
  see you there.
DTSTART;TZID=America/Denver:20221229T180000
DTEND;TZID=America/Denver:20221229T190000
LOCATION:4780 Old Post Rd\, Ogden\, UT 84403 US
SUMMARY:Weber Morgan Moms Dinner
END:VEVENT
END:VCALENDAR
