BEGIN:VCALENDAR
VERSION:2.0
PRODID:-//www.udsf.org//NONSGML kigkonsult.se iCalcreator 2.30.10//
CALSCALE:GREGORIAN
METHOD:PUBLISH
UID:d1ed22d9-e095-4e61-bfea-71eacfc2fe57
X-WR-CALDESC:Join us for this month's Davis County Moms Lunch at Olive Gard
 en! Contact Noelle Kelley\, Janet Alvarado\, or Amanda Lilywhite with ques
 tions. See you there!
X-WR-RELCALID:fb6ba135689f8bfd77dfaf93beb83dce
X-WR-TIMEZONE:America/Denver
BEGIN:VTIMEZONE
TZID:America/Denver
BEGIN:STANDARD
TZNAME:MST
DTSTART:20221106T020000
TZOFFSETFROM:-0600
TZOFFSETTO:-0700
RDATE:20231105T020000
END:STANDARD
BEGIN:DAYLIGHT
TZNAME:MDT
DTSTART:20220313T020000
TZOFFSETFROM:-0700
TZOFFSETTO:-0600
RDATE:20230312T020000
RDATE:20240310T020000
END:DAYLIGHT
END:VTIMEZONE
BEGIN:VEVENT
UID:d143ad3d-b2f6-485b-be04-e0933e8733e2
DTSTAMP:20260421T210130Z
DESCRIPTION:Join us for this month's Davis County Moms Lunch at Olive Garde
 n! Contact Noelle Kelley\, Janet Alvarado\, or Amanda Lilywhite with quest
 ions. See you there!
DTSTART;TZID=America/Denver:20230118T130000
DTEND;TZID=America/Denver:20230118T140000
LOCATION:675 Ring Rd\, Layton\, UT 84041 US
SUMMARY:Davis County Moms Lunch
END:VEVENT
END:VCALENDAR
