BEGIN:VCALENDAR
VERSION:2.0
PRODID:-//www.udsf.org//NONSGML kigkonsult.se iCalcreator 2.30.10//
CALSCALE:GREGORIAN
METHOD:PUBLISH
UID:b475f2eb-a47f-499e-8a71-4bc4f9e13ba2
X-WR-CALDESC:Join us for our first New Parent Breakfast of 2023! Please reg
 ister\, we would love to see you there.
X-WR-RELCALID:ee56e5f5b9577a2b549aaece136a2e68
X-WR-TIMEZONE:America/Denver
BEGIN:VTIMEZONE
TZID:America/Denver
BEGIN:STANDARD
TZNAME:MST
DTSTART:20221106T020000
TZOFFSETFROM:-0600
TZOFFSETTO:-0700
RDATE:20231105T020000
END:STANDARD
BEGIN:DAYLIGHT
TZNAME:MDT
DTSTART:20220313T020000
TZOFFSETFROM:-0700
TZOFFSETTO:-0600
RDATE:20230312T020000
RDATE:20240310T020000
END:DAYLIGHT
END:VTIMEZONE
BEGIN:VEVENT
UID:25dbda88-c91d-432c-a930-59b70d9cebd6
DTSTAMP:20260421T192806Z
DESCRIPTION:Join us for our first New Parent Breakfast of 2023! Please regi
 ster\, we would love to see you there.
DTSTART;TZID=America/Denver:20230225T100000
DTEND;TZID=America/Denver:20230225T120000
LOCATION:2870 Connor St\, Salt Lake City\, UT 84109 US
SUMMARY:New Parent Breakfast
END:VEVENT
END:VCALENDAR
