BEGIN:VCALENDAR
VERSION:2.0
PRODID:-//www.udsf.org//NONSGML kigkonsult.se iCalcreator 2.30.10//
CALSCALE:GREGORIAN
METHOD:PUBLISH
UID:93339a57-5300-43d7-8cc5-1e9dace33c44
X-WR-CALDESC:Moms' Night Out Plus One\, Or Two\, Or Three! Bring a friend(s
 ) and enjoy a relaxing night out at the movies. Movie starts at 6:40 PM at
  Century 16 Union Heights in Sandy!!!
X-WR-RELCALID:c237a697429521e39757b15f266dbb18
X-WR-TIMEZONE:America/Denver
BEGIN:VTIMEZONE
TZID:America/Denver
BEGIN:STANDARD
TZNAME:MST
DTSTART:20221106T020000
TZOFFSETFROM:-0600
TZOFFSETTO:-0700
RDATE:20231105T020000
END:STANDARD
BEGIN:DAYLIGHT
TZNAME:MDT
DTSTART:20230312T020000
TZOFFSETFROM:-0700
TZOFFSETTO:-0600
RDATE:20240310T020000
END:DAYLIGHT
END:VTIMEZONE
BEGIN:VEVENT
UID:d1444c6f-fe42-43d4-b2a3-2c7dd0e6d809
DTSTAMP:20260423T101127Z
DESCRIPTION:Moms' Night Out Plus One\, Or Two\, Or Three! Bring a friend(s)
  and enjoy a relaxing night out at the movies. Movie starts at 6:40 PM at 
 Century 16 Union Heights in Sandy!!!
DTSTART;TZID=America/Denver:20230328T200000
DTEND;TZID=America/Denver:20230328T210000
LOCATION:7670 S Union Park Ave\, Sandy\, UT 84047 US
SUMMARY:SLC MNO Movie Date Night
END:VEVENT
END:VCALENDAR
