BEGIN:VCALENDAR
VERSION:2.0
PRODID:-//www.udsf.org//NONSGML kigkonsult.se iCalcreator 2.30.10//
CALSCALE:GREGORIAN
METHOD:PUBLISH
UID:559041a4-dcaf-40c2-a538-d057c2fe1257
X-WR-CALDESC:Get your baskets ready and come to UDSF's Eggcelent Easter Egg
  Hunt!!! Join us for friends\, a magic show\, a chance to meet the Easter 
 Bunny\, and refreshments.
X-WR-RELCALID:208752235caf4de62e9b7355866bfe45
X-WR-TIMEZONE:America/Denver
BEGIN:VTIMEZONE
TZID:America/Denver
BEGIN:STANDARD
TZNAME:MST
DTSTART:20221106T020000
TZOFFSETFROM:-0600
TZOFFSETTO:-0700
RDATE:20231105T020000
END:STANDARD
BEGIN:DAYLIGHT
TZNAME:MDT
DTSTART:20230312T020000
TZOFFSETFROM:-0700
TZOFFSETTO:-0600
RDATE:20240310T020000
END:DAYLIGHT
END:VTIMEZONE
BEGIN:VEVENT
UID:f0a83765-4557-47d5-8fde-4ec97d06eeb7
DTSTAMP:20260422T115825Z
DESCRIPTION:Get your baskets ready and come to UDSF's Eggcelent Easter Egg 
 Hunt!!! Join us for friends\, a magic show\, a chance to meet the Easter B
 unny\, and refreshments.
DTSTART;TZID=America/Denver:20230408T100000
DTEND;TZID=America/Denver:20230408T120000
LOCATION:480 Wakara Way\, Salt Lake City\, UT 84108 US
SUMMARY:SLC Eggcelent Easter Egg Hunt
END:VEVENT
END:VCALENDAR
