BEGIN:VCALENDAR
VERSION:2.0
PRODID:-//www.udsf.org//NONSGML kigkonsult.se iCalcreator 2.30.10//
CALSCALE:GREGORIAN
METHOD:PUBLISH
UID:06d844fe-0799-4baf-bec4-f8a3605dbe95
X-WR-CALDESC:Please RSVP by clicking the 'RSVP' button above!
X-WR-RELCALID:fb785034f731f38b8c354eda7344099b
X-WR-TIMEZONE:America/Denver
BEGIN:VTIMEZONE
TZID:America/Denver
BEGIN:STANDARD
TZNAME:MST
DTSTART:20221106T020000
TZOFFSETFROM:-0600
TZOFFSETTO:-0700
RDATE:20231105T020000
RDATE:20241103T020000
END:STANDARD
BEGIN:DAYLIGHT
TZNAME:MDT
DTSTART:20230312T020000
TZOFFSETFROM:-0700
TZOFFSETTO:-0600
RDATE:20240310T020000
END:DAYLIGHT
END:VTIMEZONE
BEGIN:VEVENT
UID:877faf74-b5a8-468a-984f-910ee6d7cfcd
DTSTAMP:20260422T104332Z
DESCRIPTION:Please RSVP by clicking the 'RSVP' button above!
DTSTART;TZID=America/Denver:20230525T180000
DTEND;TZID=America/Denver:20230525T190000
LOCATION:2309 S Washington Blvd\, Ogden\, UT 84401 US
SUMMARY:Weber Morgan Moms Night Out
END:VEVENT
END:VCALENDAR
