BEGIN:VCALENDAR
VERSION:2.0
PRODID:-//www.udsf.org//NONSGML kigkonsult.se iCalcreator 2.30.10//
CALSCALE:GREGORIAN
METHOD:PUBLISH
UID:b6dad2da-d133-47bf-bf7f-32346db9ec78
X-WR-CALDESC:Join us for UDSF's Davis County Moms Brunch at Kneaders! Pleas
 e RSVP above!!! Contact Noelle Kelley\, Janet Alvarado\, or Amanda Lilywhi
 te with any questions. See you there!
X-WR-RELCALID:9ada17f721a42897738f39f3db4aa1ed
X-WR-TIMEZONE:America/Denver
BEGIN:VTIMEZONE
TZID:America/Denver
BEGIN:STANDARD
TZNAME:MST
DTSTART:20221106T020000
TZOFFSETFROM:-0600
TZOFFSETTO:-0700
RDATE:20231105T020000
RDATE:20241103T020000
END:STANDARD
BEGIN:DAYLIGHT
TZNAME:MDT
DTSTART:20230312T020000
TZOFFSETFROM:-0700
TZOFFSETTO:-0600
RDATE:20240310T020000
END:DAYLIGHT
END:VTIMEZONE
BEGIN:VEVENT
UID:ff3aa222-8cdb-47b1-8591-be159839a202
DTSTAMP:20260420T085234Z
DESCRIPTION:Join us for UDSF's Davis County Moms Brunch at Kneaders! Please
  RSVP above!!! Contact Noelle Kelley\, Janet Alvarado\, or Amanda Lilywhit
 e with any questions. See you there!
DTSTART;TZID=America/Denver:20230621T100000
DTEND;TZID=America/Denver:20230621T110000
LOCATION:480 W Antelope Dr\, Layton\, UT 84041 US
SUMMARY:Davis County Moms Brunch
END:VEVENT
END:VCALENDAR
