BEGIN:VCALENDAR
VERSION:2.0
PRODID:-//www.udsf.org//NONSGML kigkonsult.se iCalcreator 2.30.10//
CALSCALE:GREGORIAN
METHOD:PUBLISH
UID:34f69092-fc03-4e86-ac5e-e78e625ee551
X-WR-CALDESC:Join other moms for a dinner at Ogden River Brewing! Please RS
 VP by clicking the 'RSVP' button above. We hope to see you there!
X-WR-RELCALID:736a61e464a77cfd9dabec99e544713d
X-WR-TIMEZONE:America/Denver
BEGIN:VTIMEZONE
TZID:America/Denver
BEGIN:STANDARD
TZNAME:MST
DTSTART:20221106T020000
TZOFFSETFROM:-0600
TZOFFSETTO:-0700
RDATE:20231105T020000
RDATE:20241103T020000
END:STANDARD
BEGIN:DAYLIGHT
TZNAME:MDT
DTSTART:20230312T020000
TZOFFSETFROM:-0700
TZOFFSETTO:-0600
RDATE:20240310T020000
END:DAYLIGHT
END:VTIMEZONE
BEGIN:VEVENT
UID:8211f438-39d8-46ca-8544-b6b687264983
DTSTAMP:20260420T083751Z
DESCRIPTION:Join other moms for a dinner at Ogden River Brewing! Please RSV
 P by clicking the 'RSVP' button above. We hope to see you there!
DTSTART;TZID=America/Denver:20230629T180000
DTEND;TZID=America/Denver:20230629T190000
LOCATION:358 Park Blvd\, Ogden\, UT 84401 US
SUMMARY:Weber Morgan Moms Dinner
END:VEVENT
END:VCALENDAR
