BEGIN:VCALENDAR
VERSION:2.0
PRODID:-//www.udsf.org//NONSGML kigkonsult.se iCalcreator 2.30.10//
CALSCALE:GREGORIAN
METHOD:PUBLISH
UID:fe2ac742-01bf-4957-bc6d-0dd301b20057
X-WR-CALDESC:Join UDSF for our 3rd Quarter New Parent Breakfast! We would l
 ove to see you there. Registration is for families who have children with 
 DS\, ages 3 and under\, please.
X-WR-RELCALID:fc78efcd7a795cb25da194aa6a795e25
X-WR-TIMEZONE:America/Denver
BEGIN:VTIMEZONE
TZID:America/Denver
BEGIN:STANDARD
TZNAME:MST
DTSTART:20221106T020000
TZOFFSETFROM:-0600
TZOFFSETTO:-0700
RDATE:20231105T020000
RDATE:20241103T020000
END:STANDARD
BEGIN:DAYLIGHT
TZNAME:MDT
DTSTART:20230312T020000
TZOFFSETFROM:-0700
TZOFFSETTO:-0600
RDATE:20240310T020000
END:DAYLIGHT
END:VTIMEZONE
BEGIN:VEVENT
UID:ad4b175e-4f87-41b4-b108-36d295931c95
DTSTAMP:20260420T050802Z
DESCRIPTION:Join UDSF for our 3rd Quarter New Parent Breakfast! We would lo
 ve to see you there. Registration is for families who have children with D
 S\, ages 3 and under\, please.
DTSTART;TZID=America/Denver:20230826T100000
DTEND;TZID=America/Denver:20230826T120000
LOCATION:2870 Connor St\, Salt Lake City\, UT 84109 US
SUMMARY:New Parent Breakfast
END:VEVENT
END:VCALENDAR
