BEGIN:VCALENDAR
VERSION:2.0
PRODID:-//www.udsf.org//NONSGML kigkonsult.se iCalcreator 2.30.10//
CALSCALE:GREGORIAN
METHOD:PUBLISH
UID:5b6de5a3-66bb-4322-97d6-98bf7e3ad32a
X-WR-CALDESC:Enjoy a night out with other UDSF moms! Join us at Cheddar's S
 cratch Kitchen on August 31st at 6 pm. Please RSVP by clicking the RSVP bu
 tton above. See you there!
X-WR-RELCALID:19e1bba6e150713558893de852685ebf
X-WR-TIMEZONE:America/Denver
BEGIN:VTIMEZONE
TZID:America/Denver
BEGIN:STANDARD
TZNAME:MST
DTSTART:20221106T020000
TZOFFSETFROM:-0600
TZOFFSETTO:-0700
RDATE:20231105T020000
RDATE:20241103T020000
END:STANDARD
BEGIN:DAYLIGHT
TZNAME:MDT
DTSTART:20230312T020000
TZOFFSETFROM:-0700
TZOFFSETTO:-0600
RDATE:20240310T020000
END:DAYLIGHT
END:VTIMEZONE
BEGIN:VEVENT
UID:3ec76277-88c7-4924-95da-005d078d193f
DTSTAMP:20260420T050500Z
DESCRIPTION:Enjoy a night out with other UDSF moms! Join us at Cheddar's Sc
 ratch Kitchen on August 31st at 6 pm. Please RSVP by clicking the RSVP but
 ton above. See you there!
DTSTART;TZID=America/Denver:20230831T180000
DTEND;TZID=America/Denver:20230831T190000
LOCATION:4171 Riverdale Rd\, Riverdale\, UT 84405 US
SUMMARY:Weber Morgan Moms Night Out
END:VEVENT
END:VCALENDAR
