BEGIN:VCALENDAR
VERSION:2.0
PRODID:-//www.udsf.org//NONSGML kigkonsult.se iCalcreator 2.30.10//
CALSCALE:GREGORIAN
METHOD:PUBLISH
UID:426826f2-e2b0-4829-990b-ff151e742147
X-WR-CALDESC:Wear your Halloween costume and come ready to BOOgie at the We
 ber/Morgan Halloween Party! Please RSVP!!!
X-WR-RELCALID:24c66735320474fc5be4d4894e572557
X-WR-TIMEZONE:America/Denver
BEGIN:VTIMEZONE
TZID:America/Denver
BEGIN:STANDARD
TZNAME:MST
DTSTART:20221106T020000
TZOFFSETFROM:-0600
TZOFFSETTO:-0700
RDATE:20231105T020000
RDATE:20241103T020000
END:STANDARD
BEGIN:DAYLIGHT
TZNAME:MDT
DTSTART:20230312T020000
TZOFFSETFROM:-0700
TZOFFSETTO:-0600
RDATE:20240310T020000
RDATE:20250309T020000
END:DAYLIGHT
END:VTIMEZONE
BEGIN:VEVENT
UID:50ed2afb-7cf3-48ee-87fd-da80a89cfaf3
DTSTAMP:20260420T015104Z
DESCRIPTION:Wear your Halloween costume and come ready to BOOgie at the Web
 er/Morgan Halloween Party! Please RSVP!!!
DTSTART;TZID=America/Denver:20231014T180000
DTEND;TZID=America/Denver:20231014T210000
LOCATION:4000 Parker Drive\, Riverdale\, UT 84404 US
SUMMARY:Weber/Morgan Halloween Party
END:VEVENT
END:VCALENDAR
