BEGIN:VCALENDAR
VERSION:2.0
PRODID:-//www.udsf.org//NONSGML kigkonsult.se iCalcreator 2.30.10//
CALSCALE:GREGORIAN
METHOD:PUBLISH
UID:18d2c8ab-3188-4616-a0ae-d38b84c33efe
X-WR-CALDESC:Join us for UDSF's Weber/Morgan Dinner this month at Yu's Mapl
 e Garden! Please RSVP by clicking the 'RSVP' button above. See you there!
X-WR-RELCALID:d138975c042cdac95620607b88a094c9
X-WR-TIMEZONE:America/Denver
BEGIN:VTIMEZONE
TZID:America/Denver
BEGIN:STANDARD
TZNAME:MST
DTSTART:20221106T020000
TZOFFSETFROM:-0600
TZOFFSETTO:-0700
RDATE:20231105T020000
RDATE:20241103T020000
END:STANDARD
BEGIN:DAYLIGHT
TZNAME:MDT
DTSTART:20230312T020000
TZOFFSETFROM:-0700
TZOFFSETTO:-0600
RDATE:20240310T020000
RDATE:20250309T020000
END:DAYLIGHT
END:VTIMEZONE
BEGIN:VEVENT
UID:b87ee9f1-cb74-4e06-850e-b344974443ab
DTSTAMP:20260420T015224Z
DESCRIPTION:Join us for UDSF's Weber/Morgan Dinner this month at Yu's Maple
  Garden! Please RSVP by clicking the 'RSVP' button above. See you there!
DTSTART;TZID=America/Denver:20231026T180000
DTEND;TZID=America/Denver:20231026T190000
LOCATION:2501 Wall Ave\, Suite A\, Ogden\, UT 84401 US
SUMMARY:Weber/Morgan Moms Dinner
END:VEVENT
END:VCALENDAR
