BEGIN:VCALENDAR
VERSION:2.0
PRODID:-//www.udsf.org//NONSGML kigkonsult.se iCalcreator 2.30.10//
CALSCALE:GREGORIAN
METHOD:PUBLISH
UID:8eb38e6a-4740-45e4-a0f2-672143b55582
X-WR-CALDESC:Join Weber/Morgan moms for a night out at Olive Garden! Please
  RSVP.
X-WR-RELCALID:246bb71ff9ab989d1bb67594b06a4381
X-WR-TIMEZONE:America/Denver
BEGIN:VTIMEZONE
TZID:America/Denver
BEGIN:STANDARD
TZNAME:MST
DTSTART:20231105T020000
TZOFFSETFROM:-0600
TZOFFSETTO:-0700
RDATE:20241103T020000
END:STANDARD
BEGIN:DAYLIGHT
TZNAME:MDT
DTSTART:20230312T020000
TZOFFSETFROM:-0700
TZOFFSETTO:-0600
RDATE:20240310T020000
RDATE:20250309T020000
END:DAYLIGHT
END:VTIMEZONE
BEGIN:VEVENT
UID:75b1cb92-81b6-4e6a-a4ef-7b384341c7f2
DTSTAMP:20260420T000628Z
DESCRIPTION:Join Weber/Morgan moms for a night out at Olive Garden! Please 
 RSVP.
DTSTART;TZID=America/Denver:20231130T180000
DTEND;TZID=America/Denver:20231130T190000
LOCATION:4079 Riverdale Rd\, Riverdale\, UT 84405 US
SUMMARY:Weber/Morgan Mom's Night Out
END:VEVENT
END:VCALENDAR
