BEGIN:VCALENDAR
VERSION:2.0
PRODID:-//www.udsf.org//NONSGML kigkonsult.se iCalcreator 2.30.10//
CALSCALE:GREGORIAN
METHOD:PUBLISH
UID:21f8f3dc-5698-4f9c-aee2-d10ca3fd8759
X-WR-CALDESC:Enjoy dinner and see Santa with the Southern Utah community gr
 oup of UDSF! Free dinner for families blessed with a child with Down syndr
 ome\, $10 for extended family and friends. You are welcome to visit the bo
 x office in advance/day of to purchase train/nativity tickets.
X-WR-RELCALID:4d6b5e8e8eeb25dd03c788e435f5f594
X-WR-TIMEZONE:America/Denver
BEGIN:VTIMEZONE
TZID:America/Denver
BEGIN:STANDARD
TZNAME:MST
DTSTART:20231105T020000
TZOFFSETFROM:-0600
TZOFFSETTO:-0700
RDATE:20241103T020000
END:STANDARD
BEGIN:DAYLIGHT
TZNAME:MDT
DTSTART:20230312T020000
TZOFFSETFROM:-0700
TZOFFSETTO:-0600
RDATE:20240310T020000
RDATE:20250309T020000
END:DAYLIGHT
END:VTIMEZONE
BEGIN:VEVENT
UID:76f291c2-256e-44f4-9dc8-616850a98951
DTSTAMP:20260419T181530Z
DESCRIPTION:Enjoy dinner and see Santa with the Southern Utah community gro
 up of UDSF! Free dinner for families blessed with a child with Down syndro
 me\, $10 for extended family and friends. You are welcome to visit the box
  office in advance/day of to purchase train/nativity tickets.
DTSTART;TZID=America/Denver:20231211T180000
DTEND;TZID=America/Denver:20231211T200000
LOCATION:1100 Tuacahn Drive\, Ivins\, UT 84738 US
SUMMARY:Southern Utah Christmas Dinner
END:VEVENT
END:VCALENDAR
