BEGIN:VCALENDAR
VERSION:2.0
PRODID:-//www.udsf.org//NONSGML kigkonsult.se iCalcreator 2.30.10//
CALSCALE:GREGORIAN
METHOD:PUBLISH
UID:f7c7360a-0285-47bd-9406-f6b296fcc467
X-WR-CALDESC:SANTA is coming and will be presenting awards and prizes for o
 ur UGLY SWEATER CONTEST! So\, dress in your ugliest/over-the-top Christmas
  attire and join your friends and our favorite DJ\, Taylor\, for an evenin
 g of holiday fun!\n
X-WR-RELCALID:b0b4df314325d224930722b3d7aabdd0
X-WR-TIMEZONE:America/Denver
BEGIN:VTIMEZONE
TZID:America/Denver
BEGIN:STANDARD
TZNAME:MST
DTSTART:20231105T020000
TZOFFSETFROM:-0600
TZOFFSETTO:-0700
RDATE:20241103T020000
END:STANDARD
BEGIN:DAYLIGHT
TZNAME:MDT
DTSTART:20230312T020000
TZOFFSETFROM:-0700
TZOFFSETTO:-0600
RDATE:20240310T020000
RDATE:20250309T020000
END:DAYLIGHT
END:VTIMEZONE
BEGIN:VEVENT
UID:972e0da8-21a0-49a4-9a6f-645f97796545
DTSTAMP:20260421T120224Z
DESCRIPTION:SANTA is coming and will be presenting awards and prizes for ou
 r UGLY SWEATER CONTEST! So\, dress in your ugliest/over-the-top Christmas 
 attire and join your friends and our favorite DJ\, Taylor\, for an evening
  of holiday fun!\n
DTSTART;TZID=America/Denver:20231216T180000
DTEND;TZID=America/Denver:20231216T203000
LOCATION:11473 South Chapel View Drive\, South Jordan\, UT 84095 US
SUMMARY:Adults w/ DS Ugly Sweater Christmas Party
END:VEVENT
END:VCALENDAR
