BEGIN:VCALENDAR
VERSION:2.0
PRODID:-//www.udsf.org//NONSGML kigkonsult.se iCalcreator 2.30.10//
CALSCALE:GREGORIAN
METHOD:PUBLISH
UID:7cf1d904-b6ab-42f0-b763-afaf728b5c9c
X-WR-CALDESC:Join other UDSF moms at our January Davis County Mom's Lunch a
 t Olive Garden! Please RSVP.
X-WR-RELCALID:2fb1ff6474633c4d9bd4ecce7fb42479
X-WR-TIMEZONE:America/Denver
BEGIN:VTIMEZONE
TZID:America/Denver
BEGIN:STANDARD
TZNAME:MST
DTSTART:20231105T020000
TZOFFSETFROM:-0600
TZOFFSETTO:-0700
RDATE:20241103T020000
END:STANDARD
BEGIN:DAYLIGHT
TZNAME:MDT
DTSTART:20230312T020000
TZOFFSETFROM:-0700
TZOFFSETTO:-0600
RDATE:20240310T020000
RDATE:20250309T020000
END:DAYLIGHT
END:VTIMEZONE
BEGIN:VEVENT
UID:939278f6-5c92-4354-b19c-9e82f89cbece
DTSTAMP:20260420T082350Z
DESCRIPTION:Join other UDSF moms at our January Davis County Mom's Lunch at
  Olive Garden! Please RSVP.
DTSTART;TZID=America/Denver:20240117T130000
DTEND;TZID=America/Denver:20240117T140000
LOCATION:675 Ring Rd\, Layton\, UT 84041 US
SUMMARY:Davis County Mom's Lunch
END:VEVENT
END:VCALENDAR
