BEGIN:VCALENDAR
VERSION:2.0
PRODID:-//www.udsf.org//NONSGML kigkonsult.se iCalcreator 2.30.10//
CALSCALE:GREGORIAN
METHOD:PUBLISH
UID:fa632221-3c9e-4827-b0bb-e5c2d6ce9e0a
X-WR-CALDESC:Join us at Rovali's for this month's Weber/Morgan Mom's Night 
 Out!
X-WR-RELCALID:36f7d3bdd6e13a6eb3effd53d7934a86
X-WR-TIMEZONE:America/Denver
BEGIN:VTIMEZONE
TZID:America/Denver
BEGIN:STANDARD
TZNAME:MST
DTSTART:20231105T020000
TZOFFSETFROM:-0600
TZOFFSETTO:-0700
RDATE:20241103T020000
END:STANDARD
BEGIN:DAYLIGHT
TZNAME:MDT
DTSTART:20230312T020000
TZOFFSETFROM:-0700
TZOFFSETTO:-0600
RDATE:20240310T020000
RDATE:20250309T020000
END:DAYLIGHT
END:VTIMEZONE
BEGIN:VEVENT
UID:641e4df4-9c3d-4b3a-b70e-601f2e3a319c
DTSTAMP:20260420T082640Z
DESCRIPTION:Join us at Rovali's for this month's Weber/Morgan Mom's Night O
 ut!
DTSTART;TZID=America/Denver:20240125T180000
DTEND;TZID=America/Denver:20240125T190000
LOCATION:174 25th St\, Ogden\, UT 84401 US
SUMMARY:Weber/Morgan Mom's Night Out
END:VEVENT
END:VCALENDAR
