BEGIN:VCALENDAR
VERSION:2.0
PRODID:-//www.udsf.org//NONSGML kigkonsult.se iCalcreator 2.30.10//
CALSCALE:GREGORIAN
METHOD:PUBLISH
UID:32510399-fe85-4422-a0e3-7e554ec7ab02
X-WR-CALDESC:Join other UDSF moms at our March Davis County Mom's Lunch at 
 Ramblin Roads! Please RSVP.
X-WR-RELCALID:695f69e5bea75e05ad4286687248c9d2
X-WR-TIMEZONE:America/Denver
BEGIN:VTIMEZONE
TZID:America/Denver
BEGIN:STANDARD
TZNAME:MST
DTSTART:20231105T020000
TZOFFSETFROM:-0600
TZOFFSETTO:-0700
RDATE:20241103T020000
END:STANDARD
BEGIN:DAYLIGHT
TZNAME:MDT
DTSTART:20240310T020000
TZOFFSETFROM:-0700
TZOFFSETTO:-0600
RDATE:20250309T020000
END:DAYLIGHT
END:VTIMEZONE
BEGIN:VEVENT
UID:21776eb1-c787-4a3a-b941-6ba5a0b8924e
DTSTAMP:20260420T085321Z
DESCRIPTION:Join other UDSF moms at our March Davis County Mom's Lunch at R
 amblin Roads! Please RSVP.
DTSTART;TZID=America/Denver:20240320T130000
DTEND;TZID=America/Denver:20240320T140000
LOCATION:296 N Main St\, Layton\, UT 84041 US
SUMMARY:Davis County Mom's Lunch
END:VEVENT
END:VCALENDAR
