BEGIN:VCALENDAR
VERSION:2.0
PRODID:-//www.udsf.org//NONSGML kigkonsult.se iCalcreator 2.30.10//
CALSCALE:GREGORIAN
METHOD:PUBLISH
UID:8047e62d-7c90-4671-9bdc-9f751cb5424d
X-WR-CALDESC:Celebrate WDSD with UDSF! Come watch Trolls at the Kaysville T
 heatre with all your UDSF friends. Please RSVP!
X-WR-RELCALID:057e5d2a7c6bc1b4d79423d86d4ca7d8
X-WR-TIMEZONE:America/Denver
BEGIN:VTIMEZONE
TZID:America/Denver
BEGIN:STANDARD
TZNAME:MST
DTSTART:20231105T020000
TZOFFSETFROM:-0600
TZOFFSETTO:-0700
RDATE:20241103T020000
END:STANDARD
BEGIN:DAYLIGHT
TZNAME:MDT
DTSTART:20240310T020000
TZOFFSETFROM:-0700
TZOFFSETTO:-0600
RDATE:20250309T020000
END:DAYLIGHT
END:VTIMEZONE
BEGIN:VEVENT
UID:5f4b0650-a34f-47ce-8bb5-8966fd4a3d8a
DTSTAMP:20260420T123927Z
DESCRIPTION:Celebrate WDSD with UDSF! Come watch Trolls at the Kaysville Th
 eatre with all your UDSF friends. Please RSVP!
DTSTART;TZID=America/Denver:20240323T130000
DTEND;TZID=America/Denver:20240323T150000
LOCATION:21 N Main St\, Kaysville\, UT 84037 US
SUMMARY:Davis County WDSD Movie
END:VEVENT
END:VCALENDAR
