BEGIN:VCALENDAR
VERSION:2.0
PRODID:-//www.udsf.org//NONSGML kigkonsult.se iCalcreator 2.30.10//
CALSCALE:GREGORIAN
METHOD:PUBLISH
UID:5bbb5d3a-589a-4602-88a5-e7867a93bf01
X-WR-CALDESC:Join UDSF moms for a night out at Laan Thai in Ogden! Please R
 SVP.
X-WR-RELCALID:43c61c2ddf61ec81c16335ae7365197d
X-WR-TIMEZONE:America/Denver
BEGIN:VTIMEZONE
TZID:America/Denver
BEGIN:STANDARD
TZNAME:MST
DTSTART:20231105T020000
TZOFFSETFROM:-0600
TZOFFSETTO:-0700
RDATE:20241103T020000
END:STANDARD
BEGIN:DAYLIGHT
TZNAME:MDT
DTSTART:20240310T020000
TZOFFSETFROM:-0700
TZOFFSETTO:-0600
RDATE:20250309T020000
END:DAYLIGHT
END:VTIMEZONE
BEGIN:VEVENT
UID:fec6e8a0-ced1-4a9f-ad89-d9f0cb79aaf4
DTSTAMP:20260420T100943Z
DESCRIPTION:Join UDSF moms for a night out at Laan Thai in Ogden! Please RS
 VP.
DTSTART;TZID=America/Denver:20240418T180000
DTEND;TZID=America/Denver:20240418T190000
LOCATION:2327 Washington Blvd\, Ogden\, UT 84401 US
SUMMARY:Weber/Morgan Mom's Night Out
END:VEVENT
END:VCALENDAR
