BEGIN:VCALENDAR
VERSION:2.0
PRODID:-//www.udsf.org//NONSGML kigkonsult.se iCalcreator 2.30.10//
CALSCALE:GREGORIAN
METHOD:PUBLISH
UID:e15aeda8-184c-4a0e-abb1-4257950fbd20
X-WR-CALDESC:Let's Bowl!\n\nClub Teen 21 Valentine's Bowl\n\nPizza\, bowlin
 g\, mini golf @ Fat Cats in Bluffdale\, 1:00-3:00 PM\n\n$5 Registration Fe
 e
X-WR-RELCALID:5d9cab6f0dd64806d736f21fd54b165d
X-WR-TIMEZONE:America/Denver
BEGIN:VTIMEZONE
TZID:America/Denver
BEGIN:STANDARD
TZNAME:MST
DTSTART:20241103T020000
TZOFFSETFROM:-0600
TZOFFSETTO:-0700
RDATE:20251102T020000
END:STANDARD
BEGIN:DAYLIGHT
TZNAME:MDT
DTSTART:20240310T020000
TZOFFSETFROM:-0700
TZOFFSETTO:-0600
RDATE:20250309T020000
RDATE:20260308T020000
END:DAYLIGHT
END:VTIMEZONE
BEGIN:VEVENT
UID:e6981ee5-0222-43fd-959d-d09c876d4b57
DTSTAMP:20260420T084948Z
DESCRIPTION:Let's Bowl!\n\nClub Teen 21 Valentine's Bowl\n\nPizza\, bowling
 \, mini golf @ Fat Cats in Bluffdale\, 1:00-3:00 PM\n\n$5 Registration Fee
DTSTART;TZID=America/Denver:20250215T130000
DTEND;TZID=America/Denver:20250215T150000
LOCATION:Fat Cats Bluffdale\, 13901 S Redwood Road\, Bluffdale\, UT 84065 U
 S
SUMMARY:Club Teen 21 Valentine's Bowl in Bluffdale
END:VEVENT
END:VCALENDAR
