BEGIN:VCALENDAR
VERSION:2.0
PRODID:-//www.udsf.org//NONSGML kigkonsult.se iCalcreator 2.30.10//
CALSCALE:GREGORIAN
METHOD:PUBLISH
UID:da7d8816-8f73-4c62-a8e8-1731dc5690d7
X-WR-CALDESC:Davis County February MNO.\n\nHug Hes in Syracuse.\n\nRSVP tod
 ay.
X-WR-RELCALID:3eb45ec83a816cc01cc84edeeaf1f3c0
X-WR-TIMEZONE:America/Denver
BEGIN:VTIMEZONE
TZID:America/Denver
BEGIN:STANDARD
TZNAME:MST
DTSTART:20241103T020000
TZOFFSETFROM:-0600
TZOFFSETTO:-0700
RDATE:20251102T020000
END:STANDARD
BEGIN:DAYLIGHT
TZNAME:MDT
DTSTART:20240310T020000
TZOFFSETFROM:-0700
TZOFFSETTO:-0600
RDATE:20250309T020000
RDATE:20260308T020000
END:DAYLIGHT
END:VTIMEZONE
BEGIN:VEVENT
UID:ebd9a62e-dda4-4589-a61d-ba668373a2dd
DTSTAMP:20260420T084049Z
DESCRIPTION:Davis County February MNO.\n\nHug Hes in Syracuse.\n\nRSVP toda
 y.
DTSTART;TZID=America/Denver:20250220T180000
DTEND;TZID=America/Denver:20250220T200000
LOCATION:Hug Hes\, 2432 W 1700 S Ste. B6\, Syracuse\, UT 84075 US
SUMMARY:Davis Moms Night Out in Syracuse
END:VEVENT
END:VCALENDAR
