BEGIN:VCALENDAR
VERSION:2.0
PRODID:-//www.udsf.org//NONSGML kigkonsult.se iCalcreator 2.30.10//
CALSCALE:GREGORIAN
METHOD:PUBLISH
UID:adbd58dd-ee63-41ab-956a-10cdbdbee548
X-WR-CALDESC:February MNO Weber/ Morgan at Windy Sukiyaki @ 6:00 PM.
X-WR-RELCALID:da674878d2bb3afe2c063b8fd547cd5d
X-WR-TIMEZONE:America/Denver
BEGIN:VTIMEZONE
TZID:America/Denver
BEGIN:STANDARD
TZNAME:MST
DTSTART:20241103T020000
TZOFFSETFROM:-0600
TZOFFSETTO:-0700
RDATE:20251102T020000
END:STANDARD
BEGIN:DAYLIGHT
TZNAME:MDT
DTSTART:20240310T020000
TZOFFSETFROM:-0700
TZOFFSETTO:-0600
RDATE:20250309T020000
RDATE:20260308T020000
END:DAYLIGHT
END:VTIMEZONE
BEGIN:VEVENT
UID:123eb042-7969-420c-ae1b-afa00f63ccba
DTSTAMP:20260420T082649Z
DESCRIPTION:February MNO Weber/ Morgan at Windy Sukiyaki @ 6:00 PM.
DTSTART;TZID=America/Denver:20250227T180000
DTEND;TZID=America/Denver:20250227T200000
LOCATION:Windy Sukiyaki\, 3809 Riverdale Rd.\, Ogden\, UT 84405 US
SUMMARY:Weber/Morgan Moms Night Out in Ogden
END:VEVENT
END:VCALENDAR
