BEGIN:VCALENDAR
VERSION:2.0
PRODID:-//www.udsf.org//NONSGML kigkonsult.se iCalcreator 2.30.10//
CALSCALE:GREGORIAN
METHOD:PUBLISH
UID:675230a3-880a-470c-8470-4c6308f526fc
X-WR-CALDESC:Adults 18 and Up Sweethearts Dinner Dance\n\nFriday\, February
  28\, 2025\n6-8:30 pm\n\nSemi-Formal or Sunday Best\n\n$5 Registration Fee
X-WR-RELCALID:60c4f67895e98007d025f1b73c4035d3
X-WR-TIMEZONE:America/Denver
BEGIN:VTIMEZONE
TZID:America/Denver
BEGIN:STANDARD
TZNAME:MST
DTSTART:20241103T020000
TZOFFSETFROM:-0600
TZOFFSETTO:-0700
RDATE:20251102T020000
END:STANDARD
BEGIN:DAYLIGHT
TZNAME:MDT
DTSTART:20240310T020000
TZOFFSETFROM:-0700
TZOFFSETTO:-0600
RDATE:20250309T020000
RDATE:20260308T020000
END:DAYLIGHT
END:VTIMEZONE
BEGIN:VEVENT
UID:fa2f97b2-b634-414c-b2c9-c97737fb07b1
DTSTAMP:20260420T082759Z
DESCRIPTION:Adults 18 and Up Sweethearts Dinner Dance\n\nFriday\, February 
 28\, 2025\n6-8:30 pm\n\nSemi-Formal or Sunday Best\n\n$5 Registration Fee
DTSTART;TZID=America/Denver:20250228T180000
DTEND;TZID=America/Denver:20250228T203000
LOCATION:
SUMMARY:Adults Sweethearts Dinner Dance in South Jordan
END:VEVENT
END:VCALENDAR
