BEGIN:VCALENDAR
VERSION:2.0
PRODID:-//www.udsf.org//NONSGML kigkonsult.se iCalcreator 2.30.10//
CALSCALE:GREGORIAN
METHOD:PUBLISH
UID:81c9dd7d-cd47-40a6-90bc-62cea77aa178
X-WR-CALDESC:Join us for March\, Weber/Morgan Moms' Night Out.
X-WR-RELCALID:3f4e9a3aee939a8d1b72a44cba22c30a
X-WR-TIMEZONE:America/Denver
BEGIN:VTIMEZONE
TZID:America/Denver
BEGIN:STANDARD
TZNAME:MST
DTSTART:20241103T020000
TZOFFSETFROM:-0600
TZOFFSETTO:-0700
RDATE:20251102T020000
END:STANDARD
BEGIN:DAYLIGHT
TZNAME:MDT
DTSTART:20250309T020000
TZOFFSETFROM:-0700
TZOFFSETTO:-0600
RDATE:20260308T020000
END:DAYLIGHT
END:VTIMEZONE
BEGIN:VEVENT
UID:48aeb619-8186-41a8-9b3a-f91ee5a33a4d
DTSTAMP:20260420T102045Z
DESCRIPTION:Join us for March\, Weber/Morgan Moms' Night Out.
DTSTART;TZID=America/Denver:20250327T180000
DTEND;TZID=America/Denver:20250327T200000
LOCATION:Tokyo Station\, 2259 Washington Blvd\, Ogden\, UT 84401 US
SUMMARY:Weber/Morgan Moms' Night Out in Ogden
END:VEVENT
END:VCALENDAR
