BEGIN:VCALENDAR
VERSION:2.0
PRODID:-//www.udsf.org//NONSGML kigkonsult.se iCalcreator 2.30.10//
CALSCALE:GREGORIAN
METHOD:PUBLISH
UID:467f00c9-2fca-4de6-b836-315a7f9a79e7
X-WR-CALDESC:Join us for April's Weber/Morgan Moms' Night Out.\n\nMaddox Ra
 nch House\n6 PM\n\nRSVP Today!
X-WR-RELCALID:da78e59b7c56d873810d24e56467698a
X-WR-TIMEZONE:America/Denver
BEGIN:VTIMEZONE
TZID:America/Denver
BEGIN:STANDARD
TZNAME:MST
DTSTART:20241103T020000
TZOFFSETFROM:-0600
TZOFFSETTO:-0700
RDATE:20251102T020000
END:STANDARD
BEGIN:DAYLIGHT
TZNAME:MDT
DTSTART:20250309T020000
TZOFFSETFROM:-0700
TZOFFSETTO:-0600
RDATE:20260308T020000
END:DAYLIGHT
END:VTIMEZONE
BEGIN:VEVENT
UID:f1d16727-5b0d-4314-976d-6a6fec2aba3a
DTSTAMP:20260423T095721Z
DESCRIPTION:Join us for April's Weber/Morgan Moms' Night Out.\n\nMaddox Ran
 ch House\n6 PM\n\nRSVP Today!
DTSTART;TZID=America/Denver:20250424T180000
DTEND;TZID=America/Denver:20250424T200000
LOCATION:Maddox Ranch House\, 1900 S Hwy 89\, Perry\, UT 84302 US
SUMMARY:Weber/Morgan Moms' Night Out in Perry
END:VEVENT
END:VCALENDAR
