BEGIN:VCALENDAR
VERSION:2.0
PRODID:-//www.udsf.org//NONSGML kigkonsult.se iCalcreator 2.30.10//
CALSCALE:GREGORIAN
METHOD:PUBLISH
UID:3720bc1f-ad9d-42fd-8fd5-f0cee2a02b46
X-WR-CALDESC:It's World Down Syndrome Day! How are you going to celebrate?
X-WR-RELCALID:084b6dc5677bdcf43c13ab4984b2ed82
X-WR-TIMEZONE:America/Denver
BEGIN:VTIMEZONE
TZID:America/Denver
BEGIN:STANDARD
TZNAME:MST
DTSTART:20261101T020000
TZOFFSETFROM:-0600
TZOFFSETTO:-0700
RDATE:20271107T020000
END:STANDARD
BEGIN:DAYLIGHT
TZNAME:MDT
DTSTART:20270314T020000
TZOFFSETFROM:-0700
TZOFFSETTO:-0600
RDATE:20280312T020000
END:DAYLIGHT
END:VTIMEZONE
BEGIN:VEVENT
UID:0af3c956-a4c1-4133-a586-3d9140f658c2
DTSTAMP:20260420T032708Z
DESCRIPTION:It's World Down Syndrome Day! How are you going to celebrate?
DTSTART;TZID=America/Denver:20270321T040000
DTEND;TZID=America/Denver:20270321T040001
LOCATION:
SUMMARY:World Down Syndrome Day
END:VEVENT
END:VCALENDAR
