BEGIN:VCALENDAR
VERSION:2.0
PRODID:-//www.udsf.org//NONSGML kigkonsult.se iCalcreator 2.30.10//
CALSCALE:GREGORIAN
METHOD:PUBLISH
UID:73d47be3-8343-44f3-bb70-1b577891c655
X-WR-CALDESC:
X-WR-RELCALID:b9e6cb69f03703591dcec20a72307ffc
X-WR-TIMEZONE:America/Chicago
BEGIN:VTIMEZONE
TZID:America/Chicago
BEGIN:STANDARD
TZNAME:CST
DTSTART:20181104T020000
TZOFFSETFROM:-0500
TZOFFSETTO:-0600
RDATE:20191103T020000
RDATE:20201101T020000
END:STANDARD
BEGIN:DAYLIGHT
TZNAME:CDT
DTSTART:20190310T020000
TZOFFSETFROM:-0600
TZOFFSETTO:-0500
RDATE:20200308T020000
RDATE:20210314T020000
END:DAYLIGHT
END:VTIMEZONE
BEGIN:VEVENT
UID:730ec3e0-4659-4b88-9054-9acfc8d10345
DTSTAMP:20260420T095219Z
DESCRIPTION:
DTSTART;TZID=America/Chicago:20190921T100000
DTEND;TZID=America/Chicago:20190921T140000
LOCATION:American West Heritage Center
SUMMARY:Mighty Steps Walk Cache County
END:VEVENT
END:VCALENDAR
