BEGIN:VCALENDAR
VERSION:2.0
PRODID:-//www.udsf.org//NONSGML kigkonsult.se iCalcreator 2.30.10//
CALSCALE:GREGORIAN
METHOD:PUBLISH
UID:f629f1de-53bc-4d24-b27c-58de9b9e62de
X-WR-CALDESC:
X-WR-RELCALID:192feb1b6ee75e9eb93957ca44c832c1
X-WR-TIMEZONE:America/Denver
BEGIN:VTIMEZONE
TZID:America/Denver
BEGIN:STANDARD
TZNAME:MST
DTSTART:20181104T020000
TZOFFSETFROM:-0600
TZOFFSETTO:-0700
RDATE:20191103T020000
RDATE:20201101T020000
END:STANDARD
BEGIN:DAYLIGHT
TZNAME:MDT
DTSTART:20190310T020000
TZOFFSETFROM:-0700
TZOFFSETTO:-0600
RDATE:20200308T020000
RDATE:20210314T020000
END:DAYLIGHT
END:VTIMEZONE
BEGIN:VEVENT
UID:a5ecfbda-fc27-4ed8-94d0-8987881e234e
DTSTAMP:20260420T081948Z
DESCRIPTION:
DTSTART;TZID=America/Denver:20191019T083000
DTEND;TZID=America/Denver:20191019T110000
LOCATION:Thunder Junction Park
SUMMARY:Mighty Steps Walk St George
END:VEVENT
END:VCALENDAR
