BEGIN:VCALENDAR
VERSION:2.0
PRODID:-//www.udsf.org//NONSGML kigkonsult.se iCalcreator 2.30.10//
CALSCALE:GREGORIAN
METHOD:PUBLISH
UID:7a9bfe69-23f7-4bfa-8b84-68d63dc4bc1b
X-WR-CALDESC:Do you ever wonder...\n\n*How can I make sure my child with Do
 wn syndrome will receive the proper care when I am no longer able to provi
 de that care myself?\n*What options are available in making an effective e
 state plan for my child with Down syndrome?\n*Where do I even start?\n\nTh
 e UDSF Finance Workshop is here to help!\nWe understand that special needs
  financial planning is complex. That's why in collaboration with Cambridge
  Financial\, we've designed a workshop to help simplify the process for yo
 u.
X-WR-RELCALID:ba910edeb4fe2c999347bbe9c9753896
X-WR-TIMEZONE:America/Denver
BEGIN:VTIMEZONE
TZID:America/Denver
BEGIN:STANDARD
TZNAME:MST
DTSTART:20201101T020000
TZOFFSETFROM:-0600
TZOFFSETTO:-0700
RDATE:20211107T020000
END:STANDARD
BEGIN:DAYLIGHT
TZNAME:MDT
DTSTART:20210314T020000
TZOFFSETFROM:-0700
TZOFFSETTO:-0600
RDATE:20220313T020000
END:DAYLIGHT
END:VTIMEZONE
BEGIN:VEVENT
UID:db21834e-1d51-490d-9791-a5edd4cc1a9c
DTSTAMP:20260420T095205Z
DESCRIPTION:Do you ever wonder...\n\n*How can I make sure my child with Dow
 n syndrome will receive the proper care when I am no longer able to provid
 e that care myself?\n*What options are available in making an effective es
 tate plan for my child with Down syndrome?\n*Where do I even start?\n\nThe
  UDSF Finance Workshop is here to help!\nWe understand that special needs 
 financial planning is complex. That's why in collaboration with Cambridge 
 Financial\, we've designed a workshop to help simplify the process for you
 .
DTSTART;TZID=America/Denver:20210318T190000
DTEND;TZID=America/Denver:20210318T203000
LOCATION:On Line Via Zoom
SUMMARY:Finance Workshop March 2021
END:VEVENT
END:VCALENDAR
