BEGIN:VCALENDAR
VERSION:2.0
PRODID:-//www.udsf.org//NONSGML kigkonsult.se iCalcreator 2.30.10//
CALSCALE:GREGORIAN
METHOD:PUBLISH
UID:e32df282-e0f6-4af7-9eb6-7d20a2146c15
X-WR-CALDESC:Bring your family and some lunch. UDSF will bring the popsicle
 s and we will celebrate World Down Syndrome Day together! Don't forget to 
 wear your team T-shirts or crazy socks to get a FREE TRAIN RIDE!
X-WR-RELCALID:688171658d394fa16c65c16ef606103a
X-WR-TIMEZONE:America/Denver
BEGIN:VTIMEZONE
TZID:America/Denver
BEGIN:STANDARD
TZNAME:MST
DTSTART:20201101T020000
TZOFFSETFROM:-0600
TZOFFSETTO:-0700
RDATE:20211107T020000
END:STANDARD
BEGIN:DAYLIGHT
TZNAME:MDT
DTSTART:20210314T020000
TZOFFSETFROM:-0700
TZOFFSETTO:-0600
RDATE:20220313T020000
END:DAYLIGHT
END:VTIMEZONE
BEGIN:VEVENT
UID:79bb9603-e2bc-42ed-99d4-a919c817e14e
DTSTAMP:20260422T103419Z
DESCRIPTION:Bring your family and some lunch. UDSF will bring the popsicles
  and we will celebrate World Down Syndrome Day together! Don't forget to w
 ear your team T-shirts or crazy socks to get a FREE TRAIN RIDE!
DTSTART;TZID=America/Denver:20210320T123000
DTEND;TZID=America/Denver:20210320T140000
LOCATION:Thunder Junction All Abilities Park\, 1851 S Dixie Dr.\, St. Georg
 e\, UT 84770 US
SUMMARY:St. George World Down Syndrome Day Picnic 2021
END:VEVENT
END:VCALENDAR
