BEGIN:VCALENDAR
VERSION:2.0
PRODID:-//www.udsf.org//NONSGML kigkonsult.se iCalcreator 2.30.10//
CALSCALE:GREGORIAN
METHOD:PUBLISH
UID:b5201344-8a94-4b90-85d4-7e0e7346b79b
X-WR-CALDESC:Join us for dinner and dancing to kick off Spring! This event 
 is for Adults with Down syndrome\, ages 18 and older. Please register.
X-WR-RELCALID:4d1582aaa29eb5be5dd5fd8686e1a988
X-WR-TIMEZONE:America/Denver
BEGIN:VTIMEZONE
TZID:America/Denver
BEGIN:STANDARD
TZNAME:MST
DTSTART:20211107T020000
TZOFFSETFROM:-0600
TZOFFSETTO:-0700
RDATE:20221106T020000
END:STANDARD
BEGIN:DAYLIGHT
TZNAME:MDT
DTSTART:20220313T020000
TZOFFSETFROM:-0700
TZOFFSETTO:-0600
RDATE:20230312T020000
END:DAYLIGHT
END:VTIMEZONE
BEGIN:VEVENT
UID:dd636eae-50a9-4be7-919c-694ed3b7e6e0
DTSTAMP:20260420T131328Z
DESCRIPTION:Join us for dinner and dancing to kick off Spring! This event i
 s for Adults with Down syndrome\, ages 18 and older. Please register.
DTSTART;TZID=America/Denver:20220318T180000
DTEND;TZID=America/Denver:20220318T203000
LOCATION:11473 South Chapel View Dr\, South Jordan\, UT 84095 US
SUMMARY:Adults w/ Ds Spring Fling Wingding
END:VEVENT
END:VCALENDAR
