BEGIN:VCALENDAR
VERSION:2.0
PRODID:-//www.udsf.org//NONSGML kigkonsult.se iCalcreator 2.30.10//
CALSCALE:GREGORIAN
METHOD:PUBLISH
UID:1b8e0f26-2510-4894-b526-a4e20e25c7bc
X-WR-CALDESC:Join us for bingo and games for adults with Down syndrome! Enj
 oy fun\, friends\, games\, and snacks. No charge\, but please register. Ho
 pe to see you there!
X-WR-RELCALID:7de4bc02356bc5bf18ac6c28706e57fa
X-WR-TIMEZONE:America/Denver
BEGIN:VTIMEZONE
TZID:America/Denver
BEGIN:STANDARD
TZNAME:MST
DTSTART:20211107T020000
TZOFFSETFROM:-0600
TZOFFSETTO:-0700
RDATE:20221106T020000
END:STANDARD
BEGIN:DAYLIGHT
TZNAME:MDT
DTSTART:20220313T020000
TZOFFSETFROM:-0700
TZOFFSETTO:-0600
RDATE:20230312T020000
END:DAYLIGHT
END:VTIMEZONE
BEGIN:VEVENT
UID:97fcc81f-97f7-4087-a0d0-8389d447a9ce
DTSTAMP:20260420T144828Z
DESCRIPTION:Join us for bingo and games for adults with Down syndrome! Enjo
 y fun\, friends\, games\, and snacks. No charge\, but please register. Hop
 e to see you there!
DTSTART;TZID=America/Denver:20220422T183000
DTEND;TZID=America/Denver:20220422T203000
LOCATION:11473 South Chapel View Dr\, South Jordan\, UT 84095 US
SUMMARY:Adults w/ Ds Bingo & Game Night
END:VEVENT
END:VCALENDAR
