BEGIN:VCALENDAR
VERSION:2.0
PRODID:-//www.udsf.org//NONSGML kigkonsult.se iCalcreator 2.30.10//
CALSCALE:GREGORIAN
METHOD:PUBLISH
UID:248e3ed1-344e-42c4-8b24-70f521aa4138
X-WR-CALDESC:Come ready to spring into summer! Registration is free. We wil
 l see you there!
X-WR-RELCALID:a0d33d686a32a1a827c0055d3ad07716
X-WR-TIMEZONE:America/Denver
BEGIN:VTIMEZONE
TZID:America/Denver
BEGIN:STANDARD
TZNAME:MST
DTSTART:20211107T020000
TZOFFSETFROM:-0600
TZOFFSETTO:-0700
RDATE:20221106T020000
RDATE:20231105T020000
END:STANDARD
BEGIN:DAYLIGHT
TZNAME:MDT
DTSTART:20220313T020000
TZOFFSETFROM:-0700
TZOFFSETTO:-0600
RDATE:20230312T020000
END:DAYLIGHT
END:VTIMEZONE
BEGIN:VEVENT
UID:abb92fa1-59fe-4789-859a-c52f7c6b38fa
DTSTAMP:20260420T175859Z
DESCRIPTION:Come ready to spring into summer! Registration is free. We will
  see you there!
DTSTART;TZID=America/Denver:20220610T183000
DTEND;TZID=America/Denver:20220610T200000
LOCATION:11267 S Riverfront Parkway \, South Jordan\, UT 84095 US
SUMMARY:Adults w/ Ds Fitness Fun at the Park
END:VEVENT
END:VCALENDAR
