BEGIN:VCALENDAR
VERSION:2.0
PRODID:-//www.udsf.org//NONSGML kigkonsult.se iCalcreator 2.30.10//
CALSCALE:GREGORIAN
METHOD:PUBLISH
UID:f10529ec-0f32-40e3-ab7f-a41e6712c7e9
X-WR-CALDESC:Join UDSF friends and family for a refreshingly good time! Thi
 s event is free\, but please register above.
X-WR-RELCALID:ef7b1433269b12b3345b7d32f474914b
X-WR-TIMEZONE:America/Denver
BEGIN:VTIMEZONE
TZID:America/Denver
BEGIN:STANDARD
TZNAME:MST
DTSTART:20211107T020000
TZOFFSETFROM:-0600
TZOFFSETTO:-0700
RDATE:20221106T020000
RDATE:20231105T020000
END:STANDARD
BEGIN:DAYLIGHT
TZNAME:MDT
DTSTART:20220313T020000
TZOFFSETFROM:-0700
TZOFFSETTO:-0600
RDATE:20230312T020000
END:DAYLIGHT
END:VTIMEZONE
BEGIN:VEVENT
UID:2db2be3e-75d3-45f2-8ab4-7a84f0ef8968
DTSTAMP:20260420T212513Z
DESCRIPTION:Join UDSF friends and family for a refreshingly good time! This
  event is free\, but please register above.
DTSTART;TZID=America/Denver:20220818T183000
DTEND;TZID=America/Denver:20220818T203000
LOCATION:Roy Aquatics Center 2977 W. 5200 S. Roy\, UT 84067
SUMMARY:Davis/Weber/Morgan Counties Swim Party
END:VEVENT
END:VCALENDAR
