BEGIN:VCALENDAR
VERSION:2.0
PRODID:-//www.udsf.org//NONSGML kigkonsult.se iCalcreator 2.30.10//
CALSCALE:GREGORIAN
METHOD:PUBLISH
UID:d87147b7-7f5e-41d9-a0bf-3453f0e6f04c
X-WR-CALDESC:There is a limit of 3 guests per person with Ds (parents\, gua
 rdians\, staff\, peer friends). This activity is for ages 18 and up\, plea
 se do not bring children. \n\nIndividual w/ Down syndrome: No charge\nGues
 ts: $5.00
X-WR-RELCALID:3677af98864936032c231fbb56c353f5
X-WR-TIMEZONE:America/Denver
BEGIN:VTIMEZONE
TZID:America/Denver
BEGIN:STANDARD
TZNAME:MST
DTSTART:20211107T020000
TZOFFSETFROM:-0600
TZOFFSETTO:-0700
RDATE:20221106T020000
RDATE:20231105T020000
END:STANDARD
BEGIN:DAYLIGHT
TZNAME:MDT
DTSTART:20220313T020000
TZOFFSETFROM:-0700
TZOFFSETTO:-0600
RDATE:20230312T020000
RDATE:20240310T020000
END:DAYLIGHT
END:VTIMEZONE
BEGIN:VEVENT
UID:e642fab0-e564-42cf-baf7-397b4c1e21a1
DTSTAMP:20260421T005218Z
DESCRIPTION:There is a limit of 3 guests per person with Ds (parents\, guar
 dians\, staff\, peer friends). This activity is for ages 18 and up\, pleas
 e do not bring children. \n\nIndividual w/ Down syndrome: No charge\nGuest
 s: $5.00
DTSTART;TZID=America/Denver:20221024T180000
DTEND;TZID=America/Denver:20221024T200000
LOCATION:296 East Murray Park Avenue\, Murray\, UT 84107 US
SUMMARY:Adults w/ Ds Haunted Woods Halloween Party
END:VEVENT
END:VCALENDAR
