BEGIN:VCALENDAR
VERSION:2.0
PRODID:-//www.udsf.org//NONSGML kigkonsult.se iCalcreator 2.30.10//
CALSCALE:GREGORIAN
METHOD:PUBLISH
UID:249b5423-38f1-466c-bfa4-01bbe0233b91
X-WR-CALDESC:This event is free\, but please register! This event is for ad
 ults w/ Ds 18+.
X-WR-RELCALID:3ba9625e8c437284cecd4c402d7bec54
X-WR-TIMEZONE:America/Denver
BEGIN:VTIMEZONE
TZID:America/Denver
BEGIN:STANDARD
TZNAME:MST
DTSTART:20221106T020000
TZOFFSETFROM:-0600
TZOFFSETTO:-0700
RDATE:20231105T020000
END:STANDARD
BEGIN:DAYLIGHT
TZNAME:MDT
DTSTART:20220313T020000
TZOFFSETFROM:-0700
TZOFFSETTO:-0600
RDATE:20230312T020000
RDATE:20240310T020000
END:DAYLIGHT
END:VTIMEZONE
BEGIN:VEVENT
UID:f84f4db4-97d6-4f38-9fd0-6305f9e6d31e
DTSTAMP:20260421T041409Z
DESCRIPTION:This event is free\, but please register! This event is for adu
 lts w/ Ds 18+.
DTSTART;TZID=America/Denver:20221216T183000
DTEND;TZID=America/Denver:20221216T203000
LOCATION:11473 South Chapel View Dr\, South Jordan\, UT 84095 US
SUMMARY:Adults w/ Ds & Teen 21 Christmas Dance
END:VEVENT
END:VCALENDAR
