BEGIN:VCALENDAR
VERSION:2.0
PRODID:-//www.udsf.org//NONSGML kigkonsult.se iCalcreator 2.30.10//
CALSCALE:GREGORIAN
METHOD:PUBLISH
UID:d0575b71-8a85-4059-a0b4-f610758451e7
X-WR-CALDESC:Limit of 4 guests per individual with Down syndrome\, please (
 parents\, guardians\, support staff\, chaperones\, peer friends).
X-WR-RELCALID:5f7375873331f7de4a17e07527dbf836
X-WR-TIMEZONE:America/Denver
BEGIN:VTIMEZONE
TZID:America/Denver
BEGIN:STANDARD
TZNAME:MST
DTSTART:20221106T020000
TZOFFSETFROM:-0600
TZOFFSETTO:-0700
RDATE:20231105T020000
END:STANDARD
BEGIN:DAYLIGHT
TZNAME:MDT
DTSTART:20220313T020000
TZOFFSETFROM:-0700
TZOFFSETTO:-0600
RDATE:20230312T020000
RDATE:20240310T020000
END:DAYLIGHT
END:VTIMEZONE
BEGIN:VEVENT
UID:1267b39b-8f46-45bf-909c-e4dea688e823
DTSTAMP:20260421T060310Z
DESCRIPTION:Limit of 4 guests per individual with Down syndrome\, please (p
 arents\, guardians\, support staff\, chaperones\, peer friends).
DTSTART;TZID=America/Denver:20230127T180000
DTEND;TZID=America/Denver:20230127T200000
LOCATION:11473 South Chapel View Dr\, South Jordan\, UT 84095 US
SUMMARY:Adults w/ DS Pajama Party!
END:VEVENT
END:VCALENDAR
