BEGIN:VCALENDAR
VERSION:2.0
PRODID:-//www.udsf.org//NONSGML kigkonsult.se iCalcreator 2.30.10//
CALSCALE:GREGORIAN
METHOD:PUBLISH
UID:cdc959cb-ed2b-4e23-a8c6-accdce130470
X-WR-CALDESC:
X-WR-RELCALID:865396aa7ec888aa307fd0cea4b1fc05
X-WR-TIMEZONE:America/Denver
BEGIN:VTIMEZONE
TZID:America/Denver
BEGIN:STANDARD
TZNAME:MST
DTSTART:20221106T020000
TZOFFSETFROM:-0600
TZOFFSETTO:-0700
RDATE:20231105T020000
END:STANDARD
BEGIN:DAYLIGHT
TZNAME:MDT
DTSTART:20220313T020000
TZOFFSETFROM:-0700
TZOFFSETTO:-0600
RDATE:20230312T020000
RDATE:20240310T020000
END:DAYLIGHT
END:VTIMEZONE
BEGIN:VEVENT
UID:aa66cf5e-0d95-47b4-a608-2804c890aa66
DTSTAMP:20260421T075107Z
DESCRIPTION:
DTSTART;TZID=America/Denver:20230225T180000
DTEND;TZID=America/Denver:20230225T203000
LOCATION:11473 South Chapel View Dr\, South Jordan\, UT 84095 US
SUMMARY:Adults w/ DS Flirty February Dinner Dance
END:VEVENT
END:VCALENDAR
