BEGIN:VCALENDAR
VERSION:2.0
PRODID:-//www.udsf.org//NONSGML kigkonsult.se iCalcreator 2.30.10//
CALSCALE:GREGORIAN
METHOD:PUBLISH
UID:8ab8eb99-1cdc-409c-9278-2062f0aa60f1
X-WR-CALDESC:You must register at least one individual with Down syndrome b
 efore adding any guests\, please. Maximum of four guests! See you there!
X-WR-RELCALID:cd792acda6799820def894c33c3bd27b
X-WR-TIMEZONE:America/Denver
BEGIN:VTIMEZONE
TZID:America/Denver
BEGIN:STANDARD
TZNAME:MST
DTSTART:20221106T020000
TZOFFSETFROM:-0600
TZOFFSETTO:-0700
RDATE:20231105T020000
END:STANDARD
BEGIN:DAYLIGHT
TZNAME:MDT
DTSTART:20230312T020000
TZOFFSETFROM:-0700
TZOFFSETTO:-0600
RDATE:20240310T020000
END:DAYLIGHT
END:VTIMEZONE
BEGIN:VEVENT
UID:40dc44ba-c737-49d1-bdf9-4c9e1f5a958a
DTSTAMP:20260423T095737Z
DESCRIPTION:You must register at least one individual with Down syndrome be
 fore adding any guests\, please. Maximum of four guests! See you there!
DTSTART;TZID=America/Denver:20230429T183000
DTEND;TZID=America/Denver:20230429T203000
LOCATION:11473 South Chapel View Dr\, South Jordan\, UT 84095 US
SUMMARY:Adults w/ DS Swing into Spring Dance Party
END:VEVENT
END:VCALENDAR
