BEGIN:VCALENDAR
VERSION:2.0
PRODID:-//www.udsf.org//NONSGML kigkonsult.se iCalcreator 2.30.10//
CALSCALE:GREGORIAN
METHOD:PUBLISH
UID:6e1b683a-fdaf-4fda-850b-59d6fa96f499
X-WR-CALDESC:You must register at least one (1) individual with Down syndro
 me before adding any guests\, please. Maximum of four (4) guests! See you 
 there!
X-WR-RELCALID:82b1ec1cbf2d988b8748943c8ccb01ee
X-WR-TIMEZONE:America/Denver
BEGIN:VTIMEZONE
TZID:America/Denver
BEGIN:STANDARD
TZNAME:MST
DTSTART:20221106T020000
TZOFFSETFROM:-0600
TZOFFSETTO:-0700
RDATE:20231105T020000
RDATE:20241103T020000
END:STANDARD
BEGIN:DAYLIGHT
TZNAME:MDT
DTSTART:20230312T020000
TZOFFSETFROM:-0700
TZOFFSETTO:-0600
RDATE:20240310T020000
END:DAYLIGHT
END:VTIMEZONE
BEGIN:VEVENT
UID:10f16e43-a1ea-4163-a0a8-37e94c2ecebe
DTSTAMP:20260423T112844Z
DESCRIPTION:You must register at least one (1) individual with Down syndrom
 e before adding any guests\, please. Maximum of four (4) guests! See you t
 here!
DTSTART;TZID=America/Denver:20230526T183000
DTEND;TZID=America/Denver:20230526T200000
LOCATION:11267 S River Front Parkway\, South Jordan\, UT 84095 US
SUMMARY:Adults w/ DS Fitness Fun in the Park
END:VEVENT
END:VCALENDAR
